BEGIN:VCALENDAR
VERSION:2.0
PRODID:-//ChamberMaster//Event Calendar 2.0//EN
METHOD:PUBLISH
X-PUBLISHED-TTL:P3D
REFRESH-INTERVAL:P3D
CALSCALE:GREGORIAN
BEGIN:VEVENT
DTSTART:20260601T113000Z
DTEND:20260601T133000Z
X-MICROSOFT-CDO-ALLDAYEVENT:FALSE
SUMMARY:Single Session NCCCC Small Business Growth Accelerator ( 3rd-Venture Capital & Angel Investment Readiness)
DESCRIPTION:3. Venture Capital & Angel Investment Readiness\n\nTopics:\n\n  When VC funding makes sense (and when it doesn't)\n\n  Understanding equity\, valuation & investor expectations\n\n  How to pitch an investor\n\n  Preparing financials for investors\n\n  How to avoid predatory investment\n\nSubject Matter Expert: June 1st 7:30am-9:30am
X-ALT-DESC;FMTTYPE=text/html:<div>3. Venture Capital &amp\; Angel Investment Readiness</div>\n\n<div>Topics:</div>\n\n<div>&bull\;<span style="white-space:pre"> </span>When VC funding makes sense (and when it doesn&rsquo\;t)</div>\n\n<div>&bull\;<span style="white-space:pre"> </span>Understanding equity\, valuation &amp\; investor expectations</div>\n\n<div>&bull\;<span style="white-space:pre"> </span>How to pitch an investor</div>\n\n<div>&bull\;<span style="white-space:pre"> </span>Preparing financials for investors</div>\n\n<div>&bull\;<span style="white-space:pre"> </span>How to avoid predatory investment</div>\n\n<div>Subject Matter Expert: June 1st 7:30am-9:30am</div>\n
LOCATION:New Castle County Chamber of Commerce 920 Justison Street Wilmington\, DE 19801
UID:e.2890.9311
SEQUENCE:3
DTSTAMP:20260424T214757Z
URL:https://business.eecincubator.com/events/details/single-session-ncccc-small-business-growth-accelerator-3rd-venture-capital-angel-investment-readiness-9311
END:VEVENT

END:VCALENDAR
