BEGIN:VCALENDAR
VERSION:2.0
PRODID:-//ChamberMaster//Event Calendar 2.0//EN
METHOD:PUBLISH
X-PUBLISHED-TTL:P3D
REFRESH-INTERVAL:P3D
CALSCALE:GREGORIAN
BEGIN:VEVENT
DTSTART:20260511T113000Z
DTEND:20260511T133000Z
X-MICROSOFT-CDO-ALLDAYEVENT:FALSE
SUMMARY:Single Session NCCCC Small Business Growth Accelerator Cohort(1st- Program Kickoff: Goals & Growth Mindset)
DESCRIPTION:1. Program Kickoff: Vision\, Goals & Growth Mindset\n\nTopics:\n\n	Assessing your business's current stage\n	Defining a powerful long-term vision\n	Setting growth goals\n	Identifying hidden barriers to scale\n	Understanding the mindset shift from "operator" to "CEO"\n\n Subject Matter Expert: Dr. Bryan Deptula of Bryan Deptula.com May 11\, 2026  7:30am-9:30am\n\nDr. Bryan Deptula is an Author\, Speaker\, CEO of BKD Leaders (a strategic Leadership Development and Training company)\, and owner of Canalside Inn. His mission is to improve the life and leadership of all people
X-ALT-DESC;FMTTYPE=text/html:<strong><span style="font-family:times new roman\,serif\;"><span style="font-size:18.0pt\;">1. Program Kickoff: Vision\, Goals &amp\; Growth Mindset</span></span></strong><br />\n<strong><span style="font-family:times new roman\,serif\;">Topics:</span></strong>\n<ul>\n	<li style="line-height:normal\;"><span style="font-family:times new roman\,serif\;">Assessing your business&rsquo\;s current stage</span></li>\n	<li style="line-height:normal\;"><span style="font-family:times new roman\,serif\;">Defining a powerful long-term vision</span></li>\n	<li style="line-height:normal\;"><span style="font-family:times new roman\,serif\;">Setting growth goals</span></li>\n	<li style="line-height:normal\;"><span style="font-family:times new roman\,serif\;">Identifying hidden barriers to scale</span></li>\n	<li style="line-height:normal\;"><span style="font-family:times new roman\,serif\;">Understanding the mindset shift from &ldquo\;operator&rdquo\; to &ldquo\;CEO&rdquo\;</span></li>\n</ul>\n<strong><span style="font-family:times new roman\,serif\;">&nbsp\;Subject Matter Expert: Dr. Bryan Deptula of Bryan Deptula.com May 11\, 2026&nbsp\; 7:30am-9:30am</span></strong><br />\n<span style="background:blue\;"><span style="color:white\;"><span style="font-family:times new roman\,serif\;">Dr. Bryan Deptula is an Author\, Speaker\, CEO of BKD Leaders (a strategic Leadership Development and Training company)\, and owner of Canalside Inn. His mission is to improve the life and leadership of all people</span></span></span>\n\n<div align="center" style="text-align:center\;">\n<hr align="center" size="2" width="100%" /></div>\n
LOCATION:New Castle County Chamber of Commerce 920 Justison Street Wilmington\, DE 19801 FREE PARKING
UID:e.2890.9309
SEQUENCE:3
DTSTAMP:20260424T193434Z
URL:https://business.eecincubator.com/events/details/single-session-ncccc-small-business-growth-accelerator-cohort-1st-program-kickoff-goals-growth-mindset-9309
END:VEVENT

END:VCALENDAR
