BEGIN:VCALENDAR
VERSION:2.0
PRODID:-//ChamberMaster//Event Calendar 2.0//EN
METHOD:PUBLISH
X-PUBLISHED-TTL:P3D
REFRESH-INTERVAL:P3D
CALSCALE:GREGORIAN
BEGIN:VEVENT
DTSTART:20260518T113000Z
DTEND:20260518T133000Z
X-MICROSOFT-CDO-ALLDAYEVENT:FALSE
SUMMARY:Single Session NCCCC Small Business Growth Accelerator Cohort (2nd-Strategic Planning Intensive)
DESCRIPTION:2. Strategic Planning Intensive\n\nTopics:\n\n	Building a 12-month strategic plan\n	Prioritizing initiatives\n	Resource & capacity planning\n	KPI development and accountability\n\nSubject Matter Expert: Dwayne Dantzler of FocalPoint Coaching & Training Excellence May 18th 7:30am-9:30am \n\nDwayne is an experienced executive and operator who brings real-world perspective to business growth.
X-ALT-DESC;FMTTYPE=text/html:<strong><span style="font-family:times new roman\,serif\;"><span style="font-size:18.0pt\;">2. Strategic Planning Intensive</span></span></strong><br />\n<strong><span style="font-family:times new roman\,serif\;">Topics:</span></strong>\n<ul>\n	<li style="line-height:normal\;"><span style="font-family:times new roman\,serif\;">Building a 12-month strategic plan</span></li>\n	<li style="line-height:normal\;"><span style="font-family:times new roman\,serif\;">Prioritizing initiatives</span></li>\n	<li style="line-height:normal\;"><span style="font-family:times new roman\,serif\;">Resource &amp\; capacity planning</span></li>\n	<li style="line-height:normal\;"><span style="font-family:times new roman\,serif\;">KPI development and accountability</span></li>\n</ul>\n<strong><span style="font-family:times new roman\,serif\;">Subject Matter Expert: Dwayne Dantzler of FocalPoint Coaching &amp\; Training Excellence May 18<sup>th</sup> 7:30am-9:30am </span></strong><br />\n<strong><span style="font-family:times new roman\,serif\;">Dwayne is an</span></strong> <strong><span style="background:white\;"><span style="color:black\;"><span style="font-family:times new roman\,serif\;">experienced executive and operator who brings real-world perspective to business growth.</span></span></span></strong>
LOCATION:New Castle County Chamber of Commerce 920 Justison Street Wilmington DE 19801
UID:e.2890.9310
SEQUENCE:3
DTSTAMP:20260424T215459Z
URL:https://business.eecincubator.com/events/details/single-session-ncccc-small-business-growth-accelerator-cohort-2nd-strategic-planning-intensive-9310
END:VEVENT

END:VCALENDAR
