BEGIN:VCALENDAR
VERSION:2.0
PRODID:-//ChamberMaster//Event Calendar 2.0//EN
METHOD:PUBLISH
X-PUBLISHED-TTL:P3D
REFRESH-INTERVAL:P3D
CALSCALE:GREGORIAN
BEGIN:VEVENT
DTSTART:20260629T113000Z
DTEND:20260629T133000Z
X-MICROSOFT-CDO-ALLDAYEVENT:FALSE
SUMMARY:Single Session NCCCC Small Business Growth Accelerator Cohort ( 7. -Operations:Building a Business That Works for You)
DESCRIPTION:7. Operations: Building a Business That Works for You\n\nTopics:\n\n	Hiring\, onboarding & team structure\n	Delegation systems\n	Automations and tools\n	SOPs (Standard Operating Procedures)\n	Time freedom through operational excellence
X-ALT-DESC;FMTTYPE=text/html:<strong><span style="font-family:times new roman\,serif\;"><span style="font-size:18.0pt\;">7. Operations: Building a Business That Works for You</span></span></strong><br />\n<strong><span style="font-family:times new roman\,serif\;">Topics:</span></strong>\n<ul>\n	<li style="line-height:normal\;"><span style="font-family:times new roman\,serif\;">Hiring\, onboarding &amp\; team structure</span></li>\n	<li style="line-height:normal\;"><span style="font-family:times new roman\,serif\;">Delegation systems</span></li>\n	<li style="line-height:normal\;"><span style="font-family:times new roman\,serif\;">Automations and tools</span></li>\n	<li style="line-height:normal\;"><span style="font-family:times new roman\,serif\;">SOPs (Standard Operating Procedures)</span></li>\n	<li style="line-height:normal\;"><span style="font-family:times new roman\,serif\;">Time freedom through operational excellence</span></li>\n</ul>\n
LOCATION:New Castle County Chamber of Commerce 920 Justison Street Wilmington\, DE 19801
UID:e.2890.9315
SEQUENCE:3
DTSTAMP:20260424T230404Z
URL:https://business.eecincubator.com/events/details/single-session-ncccc-small-business-growth-accelerator-cohort-7-operations-building-a-business-that-works-for-you-9315
END:VEVENT

END:VCALENDAR
